BEGIN:VCALENDAR
VERSION:2.0
PRODID:icalendar-ruby
CALSCALE:GREGORIAN
METHOD:PUBLISH
BEGIN:VEVENT
DTSTAMP:20260420T161003Z
UID:8-334695@dunbarumc.com
DTSTART:20260823T133000Z
DTEND:20260823T143000Z
CLASS:PUBLIC
CREATED:20260420T110335
DESCRIPTION:Sunday School
LAST-MODIFIED:20260420T110335
LOCATION:1401 Myers Avenue\, Dunbar WV
SUMMARY:Sunday School
URL;VALUE=URI:https://www.dunbarumc.com/events/sunday-school/2026-08-23
END:VEVENT
END:VCALENDAR
