BEGIN:VCALENDAR
VERSION:2.0
PRODID:icalendar-ruby
CALSCALE:GREGORIAN
METHOD:PUBLISH
BEGIN:VEVENT
DTSTAMP:20260420T224311Z
UID:8-335111@dunbarumc.com
DTSTART:20260920T133000Z
DTEND:20260920T143000Z
CLASS:PUBLIC
CREATED:20260420T161309
DESCRIPTION:Sunday School
LAST-MODIFIED:20260420T161309
LOCATION:1401 Myers Avenue\, Dunbar WV
SUMMARY:Sunday School
URL;VALUE=URI:https://www.dunbarumc.com/events/sunday-school/2026-09-20
END:VEVENT
END:VCALENDAR
