BEGIN:VCALENDAR
VERSION:2.0
PRODID:icalendar-ruby
CALSCALE:GREGORIAN
METHOD:PUBLISH
BEGIN:VEVENT
DTSTAMP:20260421T001655Z
UID:8-335318@dunbarumc.com
DTSTART:20260927T133000Z
DTEND:20260927T143000Z
CLASS:PUBLIC
CREATED:20260420T184835
DESCRIPTION:Sunday School
LAST-MODIFIED:20260420T184835
LOCATION:1401 Myers Avenue\, Dunbar WV
SUMMARY:Sunday School
URL;VALUE=URI:https://www.dunbarumc.com/events/sunday-school/2026-09-27
END:VEVENT
END:VCALENDAR
