BEGIN:VCALENDAR
VERSION:2.0
PRODID:icalendar-ruby
CALSCALE:GREGORIAN
METHOD:PUBLISH
BEGIN:VEVENT
DTSTAMP:20260421T015756Z
UID:8-335525@dunbarumc.com
DTSTART:20261004T133000Z
DTEND:20261004T143000Z
CLASS:PUBLIC
CREATED:20260420T212250
DESCRIPTION:Sunday School
LAST-MODIFIED:20260420T212250
LOCATION:1401 Myers Avenue\, Dunbar WV
SUMMARY:Sunday School
URL;VALUE=URI:https://www.dunbarumc.com/events/sunday-school/2026-10-04
END:VEVENT
END:VCALENDAR
