BEGIN:VCALENDAR
VERSION:2.0
PRODID:icalendar-ruby
CALSCALE:GREGORIAN
METHOD:PUBLISH
BEGIN:VEVENT
DTSTAMP:20260421T090555Z
UID:8-335529@dunbarumc.com
DTSTART:20261101T143000Z
DTEND:20261101T153000Z
CLASS:PUBLIC
CREATED:20260420T212250
DESCRIPTION:Sunday School
LAST-MODIFIED:20260420T212250
LOCATION:1401 Myers Avenue\, Dunbar WV
SUMMARY:Sunday School
URL;VALUE=URI:https://www.dunbarumc.com/events/sunday-school/2026-11-01
END:VEVENT
END:VCALENDAR
